BEGIN:VCALENDAR
VERSION:2.0
PRODID:-//Kenya Editors Guild - ECPv6.15.20//NONSGML v1.0//EN
CALSCALE:GREGORIAN
METHOD:PUBLISH
X-ORIGINAL-URL:https://www.kenyaeditorsguild.org
X-WR-CALDESC:Events for Kenya Editors Guild
REFRESH-INTERVAL;VALUE=DURATION:PT1H
X-Robots-Tag:noindex
X-PUBLISHED-TTL:PT1H
BEGIN:VTIMEZONE
TZID:Europe/Moscow
BEGIN:STANDARD
TZOFFSETFROM:+0300
TZOFFSETTO:+0300
TZNAME:MSK
DTSTART:20200101T000000
END:STANDARD
END:VTIMEZONE
BEGIN:VEVENT
DTSTART;TZID=Europe/Moscow:20210511T120000
DTEND;TZID=Europe/Moscow:20210511T140000
DTSTAMP:20260422T163755
CREATED:20210511T095601Z
LAST-MODIFIED:20210511T095601Z
UID:23201-1620734400-1620741600@www.kenyaeditorsguild.org
SUMMARY:Kenya Editors Guild Press Club
DESCRIPTION:ENABLING FREE PRESS IN KENYA
URL:https://www.kenyaeditorsguild.org/event/kenya-editors-guild-press-club/
LOCATION:Nairobi\, Kenya
CATEGORIES:Press club meetings
ATTACH;FMTTYPE=image/jpeg:https://www.kenyaeditorsguild.org/wp-content/uploads/2021/05/185296284_2914319948823968_8773740986722085752_n.jpg
END:VEVENT
BEGIN:VEVENT
DTSTART;TZID=Europe/Moscow:20210119T120000
DTEND;TZID=Europe/Moscow:20210119T150000
DTSTAMP:20260422T163755
CREATED:20210114T132737Z
LAST-MODIFIED:20210114T133614Z
UID:20195-1611057600-1611068400@www.kenyaeditorsguild.org
SUMMARY:The Role of the Media in promoting Child Rights in the context of Covid -19
DESCRIPTION:We are pleased to host the Country Representative\, UNICEF Kenya as keynote speaker of the event. This is the 13th Press Club meeting of Kenya Editors’ Guild. \n  \nGUEST SPEAKER: Maniza Zaman\, UNICEF Kenya Representative \n 
URL:https://www.kenyaeditorsguild.org/event/the-role-of-the-media-in-promoting-child-rights-in-the-context-of-covid-19/
LOCATION:Panafric Hotel\, Nairobi\, Kenya
CATEGORIES:Press club meetings
END:VEVENT
END:VCALENDAR